BEGIN:VCALENDAR
VERSION:2.0
PRODID:-//Finding the Way Out - ECPv6.15.12.2//NONSGML v1.0//EN
CALSCALE:GREGORIAN
METHOD:PUBLISH
X-ORIGINAL-URL:https://findingthewayout.com
X-WR-CALDESC:Events for Finding the Way Out
REFRESH-INTERVAL;VALUE=DURATION:PT1H
X-Robots-Tag:noindex
X-PUBLISHED-TTL:PT1H
BEGIN:VTIMEZONE
TZID:America/Phoenix
BEGIN:STANDARD
TZOFFSETFROM:-0700
TZOFFSETTO:-0700
TZNAME:MST
DTSTART:20250101T000000
END:STANDARD
END:VTIMEZONE
BEGIN:VEVENT
DTSTART;TZID=America/Phoenix:20260701T193000
DTEND;TZID=America/Phoenix:20260701T203000
DTSTAMP:20260419T055928
CREATED:20251208T035318Z
LAST-MODIFIED:20251208T035318Z
UID:1700-1782934200-1782937800@findingthewayout.com
SUMMARY:Sunset Suttas in July
DESCRIPTION:Wednesday Evening Sutta Reading & Discussion\nJoin us for a reading from the Buddhist Suttas followed by a community conversation every Wednesday in July. \nAs we come closer to July 2026\, the Sutta we will be reading each week will be posted here. \nLocation will be outdoors\, specific location TBA. Feel free to bring snack foods or non-alcoholic beverages to share. \nSponsored by Flagstaff Insight Meditation Community. \n 
URL:https://findingthewayout.com/event/sunset-suttas-in-july/
END:VEVENT
END:VCALENDAR