BEGIN:VCALENDAR
VERSION:2.0
PRODID:-//Finding the Way Out - ECPv6.15.12.2//NONSGML v1.0//EN
CALSCALE:GREGORIAN
METHOD:PUBLISH
X-ORIGINAL-URL:https://findingthewayout.com
X-WR-CALDESC:Events for Finding the Way Out
REFRESH-INTERVAL;VALUE=DURATION:PT1H
X-Robots-Tag:noindex
X-PUBLISHED-TTL:PT1H
BEGIN:VTIMEZONE
TZID:America/Phoenix
BEGIN:STANDARD
TZOFFSETFROM:-0700
TZOFFSETTO:-0700
TZNAME:MST
DTSTART:20230101T000000
END:STANDARD
END:VTIMEZONE
BEGIN:VEVENT
DTSTART;TZID=America/Phoenix:20260316T183000
DTEND;TZID=America/Phoenix:20260316T203000
DTSTAMP:20260421T060645
CREATED:20251208T015314Z
LAST-MODIFIED:20251208T015314Z
UID:1681-1773685800-1773693000@findingthewayout.com
SUMMARY:Dharma Talk at FIMC
DESCRIPTION:Sitting meditation and a Dharma talk (In-Person and Zoom)\nPlease stay for an optional discussion afterwards\, beginning around 7:40PM. \nThe Monday meetings are offered in a hybrid format. If you would like to attend in person\, you can join us at the Beacon Unitarian Universalist Congregation in downtown Flagstaff. If you prefer to join by Zoom\, see the information below. \nZoom Meeting ID#: 246 725 464\nPassword: 306049 \nMonday’s virtual meeting will open up at 6:15pm.
URL:https://findingthewayout.com/event/dharma-talk-at-fimc-6/
LOCATION:Beacon Unitarian Universalist Congregation (BUU)\, 510 N Leroux St\, Flagstaff\, 86001\, United States
CATEGORIES:FIMC Talks
ATTACH;FMTTYPE=image/png:https://findingthewayout.com/wp-content/uploads/2025/03/FIMC-Monday-Talk-Image.png
END:VEVENT
BEGIN:VEVENT
DTSTART;TZID=America/Phoenix:20251215T183000
DTEND;TZID=America/Phoenix:20251215T203000
DTSTAMP:20260421T060645
CREATED:20251208T014935Z
LAST-MODIFIED:20251208T014935Z
UID:1675-1765823400-1765830600@findingthewayout.com
SUMMARY:Dharma Talk at FIMC
DESCRIPTION:Sitting meditation and a Dharma talk (In-Person and Zoom)\nPlease stay for an optional discussion afterwards\, beginning around 7:40PM. \nThe Monday meetings are offered in a hybrid format. If you would like to attend in person\, you can join us at the Beacon Unitarian Universalist Congregation in downtown Flagstaff. If you prefer to join by Zoom\, see the information below. \nZoom Meeting ID#: 246 725 464\nPassword: 306049 \nMonday’s virtual meeting will open up at 6:15pm.
URL:https://findingthewayout.com/event/dharma-talk-at-fimc-5/
LOCATION:Beacon Unitarian Universalist Congregation (BUU)\, 510 N Leroux St\, Flagstaff\, 86001\, United States
CATEGORIES:FIMC Talks
ATTACH;FMTTYPE=image/png:https://findingthewayout.com/wp-content/uploads/2025/03/FIMC-Monday-Talk-Image.png
END:VEVENT
BEGIN:VEVENT
DTSTART;TZID=America/Phoenix:20250825T183000
DTEND;TZID=America/Phoenix:20250825T203000
DTSTAMP:20260421T060645
CREATED:20250507T201014Z
LAST-MODIFIED:20250507T201014Z
UID:1657-1756146600-1756153800@findingthewayout.com
SUMMARY:Dharma Talk at FIMC
DESCRIPTION:Sitting meditation and a Dharma talk (In-Person and Zoom)\nPlease stay for an optional discussion afterwards\, beginning around 7:40PM. \nThe Monday meetings are offered in a hybrid format. If you would like to attend in person\, you can join us at the Beacon Unitarian Universalist Congregation in downtown Flagstaff. If you prefer to join by Zoom\, see the information below. \nZoom Meeting ID#: 246 725 464\nPassword: 306049 \nMonday’s virtual meeting will open up at 6:15pm.
URL:https://findingthewayout.com/event/dharma-talk-at-fimc-3/
LOCATION:Beacon Unitarian Universalist Congregation (BUU)\, 510 N Leroux St\, Flagstaff\, 86001\, United States
CATEGORIES:FIMC Talks
ATTACH;FMTTYPE=image/png:https://findingthewayout.com/wp-content/uploads/2025/03/FIMC-Monday-Talk-Image.png
END:VEVENT
BEGIN:VEVENT
DTSTART;TZID=America/Phoenix:20250818T183000
DTEND;TZID=America/Phoenix:20250818T203000
DTSTAMP:20260421T060645
CREATED:20250507T200955Z
LAST-MODIFIED:20250507T200955Z
UID:1655-1755541800-1755549000@findingthewayout.com
SUMMARY:Dharma Talk at FIMC
DESCRIPTION:Sitting meditation and a Dharma talk (In-Person and Zoom)\nPlease stay for an optional discussion afterwards\, beginning around 7:40PM. \nThe Monday meetings are offered in a hybrid format. If you would like to attend in person\, you can join us at the Beacon Unitarian Universalist Congregation in downtown Flagstaff. If you prefer to join by Zoom\, see the information below. \nZoom Meeting ID#: 246 725 464\nPassword: 306049 \nMonday’s virtual meeting will open up at 6:15pm.
URL:https://findingthewayout.com/event/dharma-talk-at-fimc-2/
LOCATION:Beacon Unitarian Universalist Congregation (BUU)\, 510 N Leroux St\, Flagstaff\, 86001\, United States
CATEGORIES:FIMC Talks
ATTACH;FMTTYPE=image/png:https://findingthewayout.com/wp-content/uploads/2025/03/FIMC-Monday-Talk-Image.png
END:VEVENT
BEGIN:VEVENT
DTSTART;TZID=America/Phoenix:20250811T183000
DTEND;TZID=America/Phoenix:20250811T203000
DTSTAMP:20260421T060645
CREATED:20250312T201046Z
LAST-MODIFIED:20250507T200918Z
UID:1616-1754937000-1754944200@findingthewayout.com
SUMMARY:Dharma Talk at FIMC
DESCRIPTION:Sitting meditation and a Dharma talk (In-Person and Zoom)\nPlease stay for an optional discussion afterwards\, beginning around 7:40PM. \nThe Monday meetings are offered in a hybrid format. If you would like to attend in person\, you can join us at the Beacon Unitarian Universalist Congregation in downtown Flagstaff. If you prefer to join by Zoom\, see the information below. \nZoom Meeting ID#: 246 725 464\nPassword: 306049 \nMonday’s virtual meeting will open up at 6:15pm.
URL:https://findingthewayout.com/event/dharma-talk-at-fimc/
LOCATION:Beacon Unitarian Universalist Congregation (BUU)\, 510 N Leroux St\, Flagstaff\, 86001\, United States
CATEGORIES:FIMC Talks
ATTACH;FMTTYPE=image/png:https://findingthewayout.com/wp-content/uploads/2025/03/FIMC-Monday-Talk-Image.png
END:VEVENT
BEGIN:VEVENT
DTSTART;TZID=America/Phoenix:20250721T183000
DTEND;TZID=America/Phoenix:20250721T203000
DTSTAMP:20260421T060645
CREATED:20250507T201138Z
LAST-MODIFIED:20250507T201138Z
UID:1654-1753122600-1753129800@findingthewayout.com
SUMMARY:Dharma Talk at FIMC
DESCRIPTION:Sitting meditation and a Dharma talk (In-Person and Zoom)\nPlease stay for an optional discussion afterwards\, beginning around 7:40PM. \nThe Monday meetings are offered in a hybrid format. If you would like to attend in person\, you can join us at the Beacon Unitarian Universalist Congregation in downtown Flagstaff. If you prefer to join by Zoom\, see the information below. \nZoom Meeting ID#: 246 725 464\nPassword: 306049 \nMonday’s virtual meeting will open up at 6:15pm.
URL:https://findingthewayout.com/event/dharma-talk-at-fimc-4/
LOCATION:Beacon Unitarian Universalist Congregation (BUU)\, 510 N Leroux St\, Flagstaff\, 86001\, United States
CATEGORIES:FIMC Talks
ATTACH;FMTTYPE=image/png:https://findingthewayout.com/wp-content/uploads/2025/03/FIMC-Monday-Talk-Image.png
END:VEVENT
BEGIN:VEVENT
DTSTART;TZID=America/Phoenix:20240819T080000
DTEND;TZID=America/Phoenix:20240819T170000
DTSTAMP:20260421T060645
CREATED:20240711T200856Z
LAST-MODIFIED:20240711T200856Z
UID:963-1724054400-1724086800@findingthewayout.com
SUMMARY:FIMC Monday Night Talks with Robin Craig
DESCRIPTION:Join us at the Flagstaff Insight Meditation Community as Robin Craig brings her understanding of the physiology of resilience to her meditation teaching\, and supports a joyful exploration of the deep spirituality and interconnection that is ours by nature. Robin is a Certified Meditation Teacher from a lineage rooted in Theravadin and Tibetan Karma Kagyu traditions traced back to the Venerable Ananda Bodhi. She is also a Licensed Professional Counselor and Organic Intelligence® Faculty. \nFIMC provides both in-person and virtual opportunities for group practice and exploration. The Monday evening meditation and dharma talk is offered in a hybrid format\, with a Zoom component for remote participants and an in-person option at the Beacon Unitarian Universalist Congregation (BUU) in downtown Flagstaff: \n510 N Leroux St\nFlagstaff\, AZ 86001
URL:https://findingthewayout.com/event/fimc-monday-night-talks-with-robin-craig/
LOCATION:Beacon Unitarian Universalist Congregation (BUU)\, 510 N Leroux St\, Flagstaff\, 86001\, United States
CATEGORIES:FIMC Talks
ATTACH;FMTTYPE=image/jpeg:https://findingthewayout.com/wp-content/uploads/2024/07/Stacks_bg.jpg
ORGANIZER;CN="Robin Craig":MAILTO:robin@findingthewayout.com
END:VEVENT
END:VCALENDAR